BEGIN:VCALENDAR
VERSION:2.0
PRODID:-//Library Market//iCal Export//EN
BEGIN:VEVENT
SUMMARY:Finding Your Roots with Ancestry.com
UID:267093
DTSTAMP:20260423T140400Z
DTSTART:20260707T210000Z
DTEND:20260707T224500Z
LOCATION:Princess Anne Area Library, 1444 Nimmo Parkway, Virginia Beach, V
 A 23456, United States
ROOM: Princess Anne Computer Lab
DESCRIPTION:Join us to learn how to to search your family history using An
 cestry.com. Adults. Registration is required. 
URL:https://vbpl.librarymarket.com/index.php/finding-your-roots-ancestryco
 m-3
END:VEVENT
END:VCALENDAR
