BEGIN:VCALENDAR
VERSION:2.0
PRODID:-//Library Market//iCal Export//EN
BEGIN:VEVENT
SUMMARY:Finding Your Roots with Ancestry.com
UID:267095
DTSTAMP:20260424T101500Z
DTSTART:20260901T210000Z
DTEND:20260901T224500Z
LOCATION:Princess Anne Area Library, 1444 Nimmo Parkway, Virginia Beach, V
 A 23456, United States
ROOM: Princess Anne Computer Lab
DESCRIPTION:Find your roots using Ancestry.com. Adults. Registration is re
 quired. 
URL:https://vbpl.librarymarket.com/index.php/finding-your-roots-ancestryco
 m-5
END:VEVENT
END:VCALENDAR
