BEGIN:VCALENDAR
VERSION:2.0
PRODID:-//Library Market//iCal Export//EN
BEGIN:VEVENT
SUMMARY:CUSTOMER TRAINING: Silhouette Cameo 4 Group Orientation
UID:273179
DTSTAMP:20260424T001600Z
DTSTART:20260608T213000Z
DTEND:20260608T230000Z
LOCATION:Meyera E. Oberndorf Central Library, 4100 Virginia Beach Boulevar
 d, Virginia Beach, VA 23452, United States
ROOM: Central Computer Lab
DESCRIPTION:Join us for an orientation program on the Silhouette Cameo 4 m
 achine! Attendees will gain essential skills to use the machine independen
 tly in the future.A current full-service Virginia Beach Public Library car
 d is required to attend the orientation and book the Cameo 4 machine indep
 endently. This session is for individuals aged 14 and older. Minors need a
  parent or guardian to sign the Terms of Use agreement in person, but pare
 nt/guardian does not need to attend the orientation or future reservations
 . All participants must have the Terms of Use agreement signed to complete
  the orientation. Teens must have a youth library card in good standing, a
 s teen library cards are not eligible. Adults and Teens 14+. Registration 
 is required.
URL:https://vbpl.librarymarket.com/index.php/customer-training-silhouette-
 cameo-4-group-orientation-1
END:VEVENT
END:VCALENDAR
