BEGIN:VCALENDAR
VERSION:2.0
PRODID:-//Library Market//iCal Export//EN
BEGIN:VEVENT
SUMMARY:Mobile Makerspace: Create a Zipline Adventure Park!
UID:277181
DTSTAMP:20260424T104500Z
DTSTART:20260720T193000Z
DTEND:20260720T210000Z
LOCATION:Kempsville Area Library, 832 Kempsville Road, Virginia Beach, VA 
 23464, United States
ROOM: Kempsville Meeting Room
DESCRIPTION:Join us for summer STEAM, where we will work collaboratively t
 o use both low and high tech to create a zip line adventure park. Ages 8-1
 1. Registration is required.
URL:https://vbpl.librarymarket.com/index.php/mobile-maker-space-0
END:VEVENT
END:VCALENDAR
