BEGIN:VCALENDAR
VERSION:2.0
PRODID:-//Library Market//iCal Export//EN
BEGIN:VEVENT
SUMMARY:Mobile Makerspace: Create a Zoo!
UID:277183
DTSTAMP:20260424T101500Z
DTSTART:20260817T193000Z
DTEND:20260817T210000Z
LOCATION:Kempsville Area Library, 832 Kempsville Road, Virginia Beach, VA 
 23464, United States
ROOM: Kempsville Meeting Room
DESCRIPTION:Join us for summer STEAM, where we will work collaboratively t
 o use both low and high tech to create a zoo complete with magnetic monora
 il. Ages 8-11. Registration is required
URL:https://vbpl.librarymarket.com/index.php/mobile-maker-space-1
END:VEVENT
END:VCALENDAR
