BEGIN:VCALENDAR
VERSION:2.0
PRODID:-//Library Market//iCal Export//EN
BEGIN:VEVENT
SUMMARY:Hands On Tech
UID:277676
DTSTAMP:20260424T101500Z
DTSTART:20260817T160000Z
DTEND:20260817T170000Z
LOCATION:Princess Anne Area Library, 1444 Nimmo Parkway, Virginia Beach, V
 A 23456, United States
ROOM: Princess Anne Meeting Room
DESCRIPTION:Explore technology and have fun in this interactive program wi
 th kits from our Mobile Makerspace! This month&#039;s theme is &quot;Inven
 tions, Designs, &amp; Building&quot;. Ages 8-11. Registration is required.
URL:https://vbpl.librarymarket.com/index.php/placeholder-hands-tech-0
END:VEVENT
END:VCALENDAR
