BEGIN:VCALENDAR
VERSION:2.0
PRODID:-//Library Market//iCal Export//EN
BEGIN:VEVENT
SUMMARY:Art Workshop: Stop Motion Movies!
UID:277992
DTSTAMP:20260424T063400Z
DTSTART:20260810T200000Z
DTEND:20260810T213000Z
LOCATION:TCC/City Joint-Use Library, 1700 College Crescent, Virginia Beach
 , VA 23453, United States
ROOM: Joint-Use Storytime Room
DESCRIPTION:Make your very own stop motion movie! Learn about and choose f
 rom different mediums to create your iMovie masterpiece. Ages 8-13. Regist
 ration is required.
URL:https://vbpl.librarymarket.com/index.php/art-workshop-stop-motion-movi
 es-0
END:VEVENT
END:VCALENDAR
