BEGIN:VCALENDAR
VERSION:2.0
PRODID:-//Library Market//iCal Export//EN
BEGIN:VEVENT
SUMMARY:Mobile Makerspace
UID:278485
DTSTAMP:20260425T105100Z
DTSTART:20260806T190000Z
DTEND:20260806T200000Z
LOCATION:Bayside Area Library, 936 Independence Blvd., Virginia Beach, VA 
 23455, United States
ROOM: Bayside Library Meeting Room
DESCRIPTION:Experiment, build, and challenge yourself with the library&#03
 9;s building and coding kits. Ages 5-13. Registration is required.
URL:https://vbpl.librarymarket.com/index.php/makerspace
END:VEVENT
END:VCALENDAR
