BEGIN:VCALENDAR
VERSION:2.0
PRODID:-//Library Market//iCal Export//EN
BEGIN:VEVENT
SUMMARY:Meet the Databases: JobNow
UID:279780
DTSTAMP:20260424T122100Z
DTSTART:20260624T213000Z
DTEND:20260624T224500Z
LOCATION:Meyera E. Oberndorf Central Library, 4100 Virginia Beach Boulevar
 d, Virginia Beach, VA 23452, United States
ROOM: Central Computer Lab
DESCRIPTION:Are you interested in updating your resume? Looking for live j
 ob coaching from your own home? Look no further, JobNow is a free database
  available with your library card. Adults. Registration is required.
URL:https://vbpl.librarymarket.com/index.php/adult-program-placeholder-156
END:VEVENT
END:VCALENDAR
