BEGIN:VCALENDAR
VERSION:2.0
PRODID:-//Library Market//iCal Export//EN
BEGIN:VEVENT
SUMMARY:Law Day Storytime
UID:280637
DTSTAMP:20260424T155600Z
DTSTART:20260507T183000Z
DTEND:20260507T193000Z
LOCATION:Wahab Public Law Library, 2425 Nimmo Pkwy # 10B, Judicial Center,
  Virginia Beach, VA 23456, United States
ROOM: Law Library Meeting Space
DESCRIPTION:Come celebrate Law Day at the Judicial Center! Law Day highli
 ghts the role of law in society and the importance of civic engagement. V
 isit a courtroom and tour the Law Library; enjoy a story with a special gu
 est reader and then create a plan to help in your community. Registration
  is required.
URL:https://vbpl.librarymarket.com/index.php/law-day-story-time
END:VEVENT
END:VCALENDAR
