BEGIN:VCALENDAR
VERSION:2.0
PRODID:-//Library Market//iCal Export//EN
BEGIN:VEVENT
SUMMARY:Digital Art: Stickers
UID:281292
DTSTAMP:20260425T105100Z
DTSTART:20260708T213000Z
DTEND:20260708T223000Z
LOCATION:Windsor Woods Area Library, 3612 South Plaza Trail, Virginia Beac
 h, VA 23452, United States
ROOM: Windsor Woods Programming Room
DESCRIPTION:Have a digital paint night with Adobe Fresco, a fun and easy-t
 o-use artistic app! In this beginner-friendly class, you will learn the ba
 sic tools and tricks to create your own stickers for texting and social me
 dia. Prerequisite: Please ask a parent or guardian to create a free Adobe 
 account at http://account.adobe.com and bring the login information with y
 ou. Ages 12-18. Registration is required. 
URL:https://vbpl.librarymarket.com/index.php/digital-art-stickers
END:VEVENT
END:VCALENDAR
