BEGIN:VCALENDAR
VERSION:2.0
PRODID:-//Library Market//iCal Export//EN
BEGIN:VEVENT
SUMMARY:Hand Sewing: Basic Stitches with Sewable Circuits!
UID:282219
DTSTAMP:20260425T105100Z
DTSTART:20260620T140000Z
DTEND:20260620T160000Z
LOCATION:TCC/City Joint-Use Library, 1700 College Crescent, Virginia Beach
 , VA 23453, United States
ROOM: Joint-Use Storytime Room
DESCRIPTION:Practice a few basic stitches and create a project with sewabl
 e circuits that lights up! All materials will be provided. Ages 9-13. Regi
 stration is required. 
URL:https://vbpl.librarymarket.com/index.php/hand-sewing-basic-stitches
END:VEVENT
END:VCALENDAR
