BEGIN:VCALENDAR
VERSION:2.0
PRODID:-//Library Market//iCal Export//EN
BEGIN:VEVENT
SUMMARY:Photography Tips &amp; Tricks
UID:282222
DTSTAMP:20260424T155600Z
DTSTART:20260807T140000Z
DTEND:20260807T160000Z
LOCATION:TCC/City Joint-Use Library, 1700 College Crescent, Virginia Beach
 , VA 23453, United States
ROOM: Joint-Use Living Room
DESCRIPTION:We see hundreds of pictures every day. Come learn how to make 
 the pictures you take really stand out! Ages 9-18. Registration is require
 d.
URL:https://vbpl.librarymarket.com/index.php/photography-tips-tricks-0
END:VEVENT
END:VCALENDAR
