BEGIN:VCALENDAR
VERSION:2.0
PRODID:-//Library Market//iCal Export//EN
BEGIN:VEVENT
SUMMARY:Toddler Open Play
UID:283753
DTSTAMP:20260424T050500Z
DTSTART:20260523T140000Z
DTEND:20260523T153000Z
LOCATION:Kempsville Area Library, 832 Kempsville Road, Virginia Beach, VA 
 23464, United States
ROOM: Kempsville Storytime Room
DESCRIPTION:Enjoy a warm and inviting space where you and your child can p
 lay and socialize with others in the community. Please note: This is a soc
 ial event for both caregiver and child, as opposed to a traditionally stru
 ctured program. Ages 12-36 months with caregiver. Registration is not requ
 ired. 
URL:https://vbpl.librarymarket.com/index.php/toddler-open-play-788
END:VEVENT
END:VCALENDAR
