BEGIN:VCALENDAR
VERSION:2.0
PRODID:-//Library Market//iCal Export//EN
BEGIN:VEVENT
SUMMARY:CUSTOMER TRAINING: 3D Printer Orientation
UID:284330
DTSTAMP:20260423T021800Z
DTSTART:20260610T153000Z
DTEND:20260610T170000Z
LOCATION:Kempsville Area Library, 832 Kempsville Road, Virginia Beach, VA 
 23464, United States
ROOM: Kempsville Library 3D Printer
DESCRIPTION:Do you want to use a 3D Printer at a Virginia Beach Public Lib
 rary branch? Register for a required 3D printer orientation with a VBPL st
 aff member to learn how to use the 3D Printer.Orientation participants mus
 t hold an active full-service Adult or Youth account in good standing. You
 th customers 12 and under must have a parent/guardian attend and actively 
 participate in the orientation and then assist with future 3D Print reserv
 ations.  If you would like to register as a family, make a reservation fo
 r yourself and add the names and library account numbers of your family me
 mbers to the special notes section.  
URL:https://vbpl.librarymarket.com/index.php/customer-training-3d-printer-
 orientation-174
END:VEVENT
END:VCALENDAR
