BEGIN:VCALENDAR
VERSION:2.0
PRODID:-//Library Market//iCal Export//EN
BEGIN:VEVENT
SUMMARY:CUSTOMER TRAINING: Silhouette Cameo Orientation
UID:284353
DTSTAMP:20260424T155600Z
DTSTART:20260605T140000Z
DTEND:20260606T033000Z
LOCATION:Kempsville Area Library, 832 Kempsville Road, Virginia Beach, VA 
 23464, United States
ROOM: Kempsville Library Silhouette Cameo 4
DESCRIPTION:Learn to use our Silhouette Cameo 4 desktop cutting machine! T
 his orientation session, guided by library staff, covers everything you ne
 ed to know to begin reserving time to work independently on our Silhouette
  Cameo 4 including: Identifying components of the CameoSelecting cutting 
 mats and toolsImporting design filesUnderstanding the reservation processO
 rientations are available to customers 14 and older. A current full-servic
 e VBPL account in good standing is required to attend the orientation.  A
 ll attendees must sign a Terms of Use agreement to be able to reserve the 
 Cameo.  Teens aged 14-17 must have a parent/ guardian signature on their 
 Terms of Use form as well as a youth library card in good standing.  Adul
 ts and Teens 14+. Registration is required.  
URL:https://vbpl.librarymarket.com/index.php/customer-training-silhouette-
 cameo-orientation-78
END:VEVENT
END:VCALENDAR
