BEGIN:VCALENDAR
VERSION:2.0
PRODID:-//Library Market//iCal Export//EN
BEGIN:VEVENT
SUMMARY:Teen Time STEAM!
UID:284565
DTSTAMP:20260419T182300Z
DTSTART:20260512T213000Z
DTEND:20260512T224500Z
LOCATION:Oceanfront Area Library, 700 Virginia Beach Boulevard, Virginia B
 each, VA 23451, United States
ROOM: Oceanfront Area Library Meeting Room
DESCRIPTION:Join us Tuesday nights for teen-only activities. Enjoy movies,
  games, crafts, and more, with different selections each week.  Grades 6
 -12. Registration is not required, drop in any time!  Weekly Themes: 1s
 t Tuesday: Gaming2nd Tuesday: STEAM (Science, Technology, Engineering, Art
 , Math)3rd Tuesday: Anime (may be rated up to TV-14)4th Tuesday: Arts &amp
 ; Crafts5th Tuesday: Surprise! 
URL:https://vbpl.librarymarket.com/index.php/teen-time-steam-76
END:VEVENT
END:VCALENDAR
