BEGIN:VCALENDAR
VERSION:2.0
PRODID:-//Library Market//iCal Export//EN
BEGIN:VEVENT
SUMMARY:Photography Basics
UID:284578
DTSTAMP:20260424T011900Z
DTSTART:20260806T183000Z
DTEND:20260806T200000Z
LOCATION:Meyera E. Oberndorf Central Library, 4100 Virginia Beach Boulevar
 d, Virginia Beach, VA 23452, United States
ROOM: Central Libris Meeting Room
DESCRIPTION:Learn photography basics and improve how you take photos on yo
 ur phone.  Bring your device, and get tips from a retired professional ph
 otographer. Teens and Adults. Registration is required.
URL:https://vbpl.librarymarket.com/index.php/teen-photography-basics-0
END:VEVENT
END:VCALENDAR
