BEGIN:VCALENDAR
VERSION:2.0
PRODID:-//Library Market//iCal Export//EN
BEGIN:VEVENT
SUMMARY:Seed Library Q&amp;A
UID:284680
DTSTAMP:20260419T193600Z
DTSTART:20260504T150000Z
DTEND:20260504T170000Z
LOCATION:Oceanfront Area Library, 700 Virginia Beach Boulevard, Virginia B
 each, VA 23451, United States
ROOM: Oceanfront Community Area
DESCRIPTION:Master Gardeners will be available to answer questions about s
 eeds for your home garden and how to get the best results with the seeds y
 ou receive from our seed library. Visit with the Master Gardeners anytime 
 during their drop-in hours. 
URL:https://vbpl.librarymarket.com/index.php/seed-library-qa-309
END:VEVENT
END:VCALENDAR
