BEGIN:VCALENDAR
VERSION:2.0
PRODID:-//Library Market//iCal Export//EN
BEGIN:VEVENT
SUMMARY:Ready to Read: The Whole Child Workshop
UID:284891
DTSTAMP:20260421T001700Z
DTSTART:20261006T141500Z
DTEND:20261006T150000Z
LOCATION:Oceanfront Area Library, 700 Virginia Beach Boulevard, Virginia B
 each, VA 23451, United States
ROOM: Oceanfront Storytime Room
DESCRIPTION:You are your child’s teacher! In this 45 minute session, par
 ents and caregivers will learn techniques to support early literacy at hom
 e through daily routines as they sing, talk, read, write, and play togethe
 r. Attendees will be eligible to receive a free storytime kit for their fa
 mily after they have completed the workshop. Ages 2-5 with caregiver. Regi
 stration is required.
URL:https://vbpl.librarymarket.com/index.php/ready-read-whole-child-worksh
 op-4
END:VEVENT
END:VCALENDAR
