BEGIN:VCALENDAR
VERSION:2.0
PRODID:-//Library Market//iCal Export//EN
BEGIN:VEVENT
SUMMARY:Ready to Read: The Whole Child Workshop
UID:285420
DTSTAMP:20260425T105100Z
DTSTART:20261008T143000Z
DTEND:20261008T151500Z
LOCATION:Great Neck Area Library, 1251 Bayne Dr, Virginia Beach, VA 23454,
  United States
ROOM: Great Neck Storytime Room
DESCRIPTION:You are your child’s teacher! In this 45 minute session, par
 ents and caregivers will learn techniques to support early literacy at hom
 e through daily routines as they sing, talk, read, write, and play togethe
 r. Attendees will be eligible to receive a free storytime kit for their fa
 mily after they have completed the workshop. Ages 2-5 with caregiver. Regi
 stration is required.
URL:https://vbpl.librarymarket.com/index.php/ready-read-whole-child-worksh
 op-5
END:VEVENT
END:VCALENDAR
