BEGIN:VCALENDAR
VERSION:2.0
PRODID:-//Library Market//iCal Export//EN
BEGIN:VEVENT
SUMMARY:Assistive Technology Education Hour
UID:285650
DTSTAMP:20260425T135200Z
DTSTART:20260827T160000Z
DTEND:20260827T170000Z
LOCATION:Meyera E. Oberndorf Central Library, 4100 Virginia Beach Boulevar
 d, Virginia Beach, VA 23452, United States
ROOM: Central Folio Meeting Room
DESCRIPTION:Explore innovative tools designed to enhance independence at o
 ur Assistive Technology Library Education Hour. Discover and learn about l
 ow-to-high-tech devices—from screen readers and adaptive keyboards to mo
 bile apps—tailored for daily living, learning, and communication. This s
 ession is designed for individuals with disabilities, caregivers, and prof
 essionals. Adults. Registration is not required. 
URL:https://vbpl.librarymarket.com/index.php/assistive-technology-educatio
 n-hour-meta-glasses-1
END:VEVENT
END:VCALENDAR
