BEGIN:VCALENDAR
VERSION:2.0
PRODID:-//Library Market//iCal Export//EN
BEGIN:VEVENT
SUMMARY:Cubetto&#039;s Pirate Adventure Game
UID:262315
DTSTAMP:20260423T064000Z
DTSTART:20260724T183000Z
DTEND:20260724T193000Z
LOCATION:Windsor Woods Area Library, 3612 South Plaza Trail, Virginia Beac
 h, VA 23452, United States
ROOM: Windsor Woods Programming Room
DESCRIPTION:Come on board and bring along, All your hopes and dreams! Cube
 tto is going on a adventure to find a special treasure that could make you
  the &quot;King of Pirates!&quot; Are you ready, kids?Try out Cubetto, the
  library coding toy meant for new coders! Guide Cubetto over a map to help
  tell the stories we&#039;ll be reading. Learn computer coding basics and 
 STEAM skills. Ages 3-7 with caregiver. Funding for these educational co
 ding toys provided by a grant from the Virginia Beach Library Foundation.R
 egistration is not required. Seating is limited. Programs that do not requ
 ire registration are available on a first come, first served basis. Pick u
 p an entry ticket at the front desk to ensure admittance to the program.
URL:https://vbpl.librarymarket.com/time2learn-write-book
END:VEVENT
END:VCALENDAR
