BEGIN:VCALENDAR
VERSION:2.0
PRODID:-//Library Market//iCal Export//EN
BEGIN:VEVENT
SUMMARY:Elementary Science
UID:270821
DTSTAMP:20260420T143700Z
DTSTART:20260512T203000Z
DTEND:20260512T211500Z
LOCATION:TCC/City Joint-Use Library, 1700 College Crescent, Virginia Beach
 , VA 23453, United States
ROOM: Joint-Use Storytime Room
DESCRIPTION:Explore Science, Engineering, Technology, Arts and Math in thi
 s interactive program. Ages 5-7.  Registration is required. 
URL:https://vbpl.librarymarket.com/elementary-science-232
END:VEVENT
END:VCALENDAR
