BEGIN:VCALENDAR
VERSION:2.0
PRODID:-//Library Market//iCal Export//EN
BEGIN:VEVENT
SUMMARY:Intro to Digital eBooks and Audiobooks
UID:272891
DTSTAMP:20260425T135200Z
DTSTART:20260822T183000Z
DTEND:20260822T193000Z
LOCATION:Bayside Area Library, 936 Independence Blvd., Virginia Beach, VA 
 23455, United States
ROOM: Bayside Library Meeting Room
DESCRIPTION:Interested in learning how to read and listen to digital books
  through the library? Join us for a hands-on introduction to our digital r
 eading apps, Libby and Hoopla! iPads will be provided for practice but ple
 ase bring along any device you&#039;d like to learn on and have your email
  login information handy. Adults. Registration is required.
URL:https://vbpl.librarymarket.com/adult-program-0
END:VEVENT
END:VCALENDAR
