BEGIN:VCALENDAR
VERSION:2.0
PRODID:-//Library Market//iCal Export//EN
BEGIN:VEVENT
SUMMARY:Mobile Makerspace: Create Robotic Creatures!
UID:276820
DTSTAMP:20260425T105100Z
DTSTART:20260706T193000Z
DTEND:20260706T203000Z
LOCATION:Kempsville Area Library, 832 Kempsville Road, Virginia Beach, VA 
 23464, United States
ROOM: Kempsville Meeting Room
DESCRIPTION:Join us for summer STEAM, where we will work collaboratively t
 o use both low and high tech to create a robotic creature! Ages 8-11. Regi
 stration is required.
URL:https://vbpl.librarymarket.com/mobile-maker-space
END:VEVENT
END:VCALENDAR
