BEGIN:VCALENDAR
VERSION:2.0
PRODID:-//Library Market//iCal Export//EN
BEGIN:VEVENT
SUMMARY:Hands On Tech
UID:277674
DTSTAMP:20260424T004700Z
DTSTART:20260622T180000Z
DTEND:20260622T190000Z
LOCATION:Princess Anne Area Library, 1444 Nimmo Parkway, Virginia Beach, V
 A 23456, United States
ROOM: Princess Anne Meeting Room
DESCRIPTION:Explore technology and have fun in this interactive program wi
 th kits from our Mobile Makerspace! This month&#039;s theme is &quot;Circu
 its &amp; Coding&quot;. Ages 8-11. Registration is required.   
URL:https://vbpl.librarymarket.com/placeholder-hands-tech
END:VEVENT
END:VCALENDAR
