BEGIN:VCALENDAR
VERSION:2.0
PRODID:-//Library Market//iCal Export//EN
BEGIN:VEVENT
SUMMARY:Tech Petting Zoo!
UID:278365
DTSTAMP:20260424T011900Z
DTSTART:20260806T170000Z
DTEND:20260806T190000Z
LOCATION:TCC/City Joint-Use Library, 1700 College Crescent, Virginia Beach
 , VA 23453, United States
ROOM: Joint-Use Children&#039;s Area
DESCRIPTION:It&#039;s a Tech Petting Zoo! Come explore new technologies in
  this interactive, hands-on program. There is something for everyone! For 
 all ages. Registration is not required.
URL:https://vbpl.librarymarket.com/tech-petting-zoo-3
END:VEVENT
END:VCALENDAR
