BEGIN:VCALENDAR
VERSION:2.0
PRODID:-//Library Market//iCal Export//EN
BEGIN:VEVENT
SUMMARY:Drop-in Tech Exploration
UID:279256
DTSTAMP:20260424T004700Z
DTSTART:20260716T193000Z
DTEND:20260716T210000Z
LOCATION:Meyera E. Oberndorf Central Library, 4100 Virginia Beach Boulevar
 d, Virginia Beach, VA 23452, United States
ROOM: Central Storytime Room
DESCRIPTION:Drop in any time between 3:30 and 5:00 p.m. for hands-on explo
 ration of fun and creative technology. This month, you can design, build, 
 and race solar-powered Solar Bugs! Ages 8-11. Registration is not required
 .
URL:https://vbpl.librarymarket.com/tech-exploration-solar-bugs
END:VEVENT
END:VCALENDAR
