BEGIN:VCALENDAR
VERSION:2.0
PRODID:-//Library Market//iCal Export//EN
BEGIN:VEVENT
SUMMARY:Technology Petting Zoo
UID:279284
DTSTAMP:20260424T004700Z
DTSTART:20260713T180000Z
DTEND:20260713T200000Z
LOCATION:Windsor Woods Area Library, 3612 South Plaza Trail, Virginia Beac
 h, VA 23452, United States
ROOM: Windsor Woods Programming Room
DESCRIPTION:Ever curious about new (or new to you) technology? Join us as 
 we explore a variety of fun technology-related toys, robots, and devices. 
 All ages. Registration is not required. Seating is limited. Programs that 
 do not require registration are available on a first come, first served ba
 sis. Pick up an entry ticket at the front desk to ensure admittance to the
  program.
URL:https://vbpl.librarymarket.com/technology-petting-zoo-10
END:VEVENT
END:VCALENDAR
