BEGIN:VCALENDAR
VERSION:2.0
PRODID:-//Library Market//iCal Export//EN
BEGIN:VEVENT
SUMMARY:Sphero Chariot Racing
UID:279316
DTSTAMP:20260424T022400Z
DTSTART:20260811T190000Z
DTEND:20260811T200000Z
LOCATION:Windsor Woods Area Library, 3612 South Plaza Trail, Virginia Beac
 h, VA 23452, United States
ROOM: Windsor Woods Programming Room
DESCRIPTION:Put your driving skills to the test in Sphero Chariot Racing. 
 Use LEGOs to build a driver&#039;s seat and race around the track. Ages 8-
 11 years. Registration is not required. Seating is limited. Programs that 
 do not require registration are available on a first come, first served ba
 sis. Pick up an entry ticket at the front desk to ensure admittance to the
  program.
URL:https://vbpl.librarymarket.com/sphero-chariot-racing-0
END:VEVENT
END:VCALENDAR
