BEGIN:VCALENDAR
VERSION:2.0
PRODID:-//Library Market//iCal Export//EN
BEGIN:VEVENT
SUMMARY:Squishy Circuits!
UID:279910
DTSTAMP:20260423T181700Z
DTSTART:20260601T190000Z
DTEND:20260601T200000Z
LOCATION:Windsor Woods Area Library, 3612 South Plaza Trail, Virginia Beac
 h, VA 23452, United States
ROOM: Windsor Woods Programming Room
DESCRIPTION:Use conductive and insulating modeling dough to learn the basi
 cs of electrical circuits in a fun, hands-on way. Bring your play dough cr
 eations to life! Ages 8-11. Registration is not required. Seating is limit
 ed. Programs that do not require registration are available on a first com
 e, first served basis. Pick up an entry ticket at the front desk to ensure
  admittance to the program.
URL:https://vbpl.librarymarket.com/squishy-circuits
END:VEVENT
END:VCALENDAR
