BEGIN:VCALENDAR
VERSION:2.0
PRODID:-//Library Market//iCal Export//EN
BEGIN:VEVENT
SUMMARY:Drop-in Tech Exploration
UID:280587
DTSTAMP:20260425T105200Z
DTSTART:20260820T193000Z
DTEND:20260820T210000Z
LOCATION:Meyera E. Oberndorf Central Library, 4100 Virginia Beach Boulevar
 d, Virginia Beach, VA 23452, United States
ROOM: Central Storytime Room
DESCRIPTION:Drop in any time between 3:30 and 5:00 p.m. for hands-on explo
 ration of fun and creative technology. This month, code with color and tea
 ch commands to Ozobot Evo!  Ages 8-11. Registration is not required.
URL:https://vbpl.librarymarket.com/tech-exploration-0
END:VEVENT
END:VCALENDAR
