BEGIN:VCALENDAR
VERSION:2.0
PRODID:-//Library Market//iCal Export//EN
BEGIN:VEVENT
SUMMARY:Teen Digital Paint Party, session 2
UID:281128
DTSTAMP:20260423T164000Z
DTSTART:20260728T213000Z
DTEND:20260728T223000Z
LOCATION:Meyera E. Oberndorf Central Library, 4100 Virginia Beach Boulevar
 d, Virginia Beach, VA 23452, United States
ROOM: Central Teen Area
DESCRIPTION:Have a digital paint night with Adobe Fresco, a fun and easy-t
 o-use artistic app! In this beginner-friendly class, you will learn the ba
 sic tools and tricks to create your own pictures and designs. Prerequisite
 : Please create a free Adobe account at http://account.adobe.com and bring
  your login information with you. Note that there are 2 sessions to allow
  more participants to attend, so please sign up for only one session.Teens
 , ages 12-18. Registration is required.
URL:https://vbpl.librarymarket.com/teen-digital-paint-party-session-2
END:VEVENT
END:VCALENDAR
