BEGIN:VCALENDAR
VERSION:2.0
PRODID:-//Library Market//iCal Export//EN
BEGIN:VEVENT
SUMMARY:America 250: Exploring History with Newspapers
UID:281983
DTSTAMP:20260423T140400Z
DTSTART:20260706T170000Z
DTEND:20260706T190000Z
LOCATION:Meyera E. Oberndorf Central Library, 4100 Virginia Beach Boulevar
 d, Virginia Beach, VA 23452, United States
ROOM: Central Computer Lab
DESCRIPTION:Read all about it! Together we&#039;ll explore how libraries a
 re preserving and expanding access to history with newspapers from years p
 ast through today. Adults. Registration is required.
URL:https://vbpl.librarymarket.com/america-250-exploring-history-newspaper
 s
END:VEVENT
END:VCALENDAR
