BEGIN:VCALENDAR
VERSION:2.0
PRODID:-//Library Market//iCal Export//EN
BEGIN:VEVENT
SUMMARY:Creating a Household Budget with Microsoft Excel
UID:282570
DTSTAMP:20260424T101500Z
DTSTART:20260817T213000Z
DTEND:20260817T223000Z
LOCATION:Meyera E. Oberndorf Central Library, 4100 Virginia Beach Boulevar
 d, Virginia Beach, VA 23452, United States
ROOM: Central Computer Lab
DESCRIPTION:Keeping track of your household budget can be difficult, but M
 icrosoft Excel is here to help! In this program, you will create a basic h
 ousehold budget in Excel and use formulas to quickly calculate total incom
 e and expenses. No prior Excel experience necessary. Adults. Registration 
 is required.
URL:https://vbpl.librarymarket.com/creating-household-budget-microsoft-exc
 el
END:VEVENT
END:VCALENDAR
