BEGIN:VCALENDAR
VERSION:2.0
PRODID:-//Library Market//iCal Export//EN
BEGIN:VEVENT
SUMMARY:OSMO Wonder Challenge - Elementary Tech
UID:284137
DTSTAMP:20260424T004700Z
DTSTART:20260625T193000Z
DTEND:20260625T203000Z
LOCATION:Pungo-Blackwater Library, 916 Princess Anne Road, Virginia Beach,
  VA 23457, United States
ROOM: Pungo-Blackwater Storytime Room
DESCRIPTION:Learn to use logic and problem-solving skills while having fun
  with the Osmo Wonder Kit.  Ages 5-7. Registration is required. *Note th
 is event is not an official Osmo event but uses the Osmo learning system 
  
URL:https://vbpl.librarymarket.com/osmo-wonder-challenge-elementary-tech
END:VEVENT
END:VCALENDAR
