BEGIN:VCALENDAR
VERSION:2.0
PRODID:-//Library Market//iCal Export//EN
BEGIN:VEVENT
SUMMARY:Drop in Tech - Osmo Wonder Kit
UID:284160
DTSTAMP:20260422T171700Z
DTSTART:20260622T130000Z
DTEND:20260626T210000Z
LOCATION:Pungo-Blackwater Library, 916 Princess Anne Road, Virginia Beach,
  VA 23457, United States
ROOM: Pungo-Blackwater Conference Room
DESCRIPTION:Drop in and use your logic and problem-solving skills while ha
 ving fun with the Osmo Wonder Kit. Ages 5 - 14. Registration is not requir
 ed. 
URL:https://vbpl.librarymarket.com/learn-use-logic-and-problem-solving-ski
 lls-while-having-fun-osmo-wonder-kit
END:VEVENT
END:VCALENDAR
