BEGIN:VCALENDAR
VERSION:2.0
PRODID:-//Library Market//iCal Export//EN
BEGIN:VEVENT
SUMMARY:Teen Photography Basics
UID:284576
DTSTAMP:20260423T164000Z
DTSTART:20260730T183000Z
DTEND:20260730T200000Z
LOCATION:Meyera E. Oberndorf Central Library, 4100 Virginia Beach Boulevar
 d, Virginia Beach, VA 23452, United States
ROOM: Central Libris Meeting Room
DESCRIPTION:Learn photography basics and improve how you take photos on yo
 ur phone.  Bring your device, and get tips from a retired professional ph
 otographer. Teens ages 12-18. Registration is required.
URL:https://vbpl.librarymarket.com/teen-photography-basics
END:VEVENT
END:VCALENDAR
