BEGIN:VCALENDAR
VERSION:2.0
PRODID:-//Library Market//iCal Export//EN
BEGIN:VEVENT
SUMMARY:Assistive Technology Education Hour: Meta Glasses
UID:285648
DTSTAMP:20260425T105200Z
DTSTART:20260625T160000Z
DTEND:20260625T170000Z
LOCATION:Meyera E. Oberndorf Central Library, 4100 Virginia Beach Boulevar
 d, Virginia Beach, VA 23452, United States
ROOM: Central Folio Meeting Room
DESCRIPTION:Explore innovative tools designed to enhance independence at o
 ur Assistive Technology Library Education Hour. Discover and learn about l
 ow-to-high-tech devices—from screen readers and adaptive keyboards to mo
 bile apps—tailored for daily living, learning, and communication. This s
 ession is designed for individuals with disabilities, caregivers, and prof
 essionals. Adults. Registration not required.
URL:https://vbpl.librarymarket.com/assistive-technology-education-hour-met
 a-glasses
END:VEVENT
END:VCALENDAR
